BEGIN:VCALENDAR
VERSION:2.0
PRODID:-//Kloster Zinna - ECPv6.15.20//NONSGML v1.0//EN
CALSCALE:GREGORIAN
METHOD:PUBLISH
X-WR-CALNAME:Kloster Zinna
X-ORIGINAL-URL:https://klosterzinna.com
X-WR-CALDESC:Veranstaltungen für Kloster Zinna
REFRESH-INTERVAL;VALUE=DURATION:PT1H
X-Robots-Tag:noindex
X-PUBLISHED-TTL:PT1H
BEGIN:VTIMEZONE
TZID:Europe/Berlin
BEGIN:DAYLIGHT
TZOFFSETFROM:+0100
TZOFFSETTO:+0200
TZNAME:CEST
DTSTART:20250330T010000
END:DAYLIGHT
BEGIN:STANDARD
TZOFFSETFROM:+0200
TZOFFSETTO:+0100
TZNAME:CET
DTSTART:20251026T010000
END:STANDARD
BEGIN:DAYLIGHT
TZOFFSETFROM:+0100
TZOFFSETTO:+0200
TZNAME:CEST
DTSTART:20260329T010000
END:DAYLIGHT
BEGIN:STANDARD
TZOFFSETFROM:+0200
TZOFFSETTO:+0100
TZNAME:CET
DTSTART:20261025T010000
END:STANDARD
BEGIN:DAYLIGHT
TZOFFSETFROM:+0100
TZOFFSETTO:+0200
TZNAME:CEST
DTSTART:20270328T010000
END:DAYLIGHT
BEGIN:STANDARD
TZOFFSETFROM:+0200
TZOFFSETTO:+0100
TZNAME:CET
DTSTART:20271031T010000
END:STANDARD
END:VTIMEZONE
BEGIN:VEVENT
DTSTART;TZID=Europe/Berlin:20260218T093000
DTEND;TZID=Europe/Berlin:20260218T110000
DTSTAMP:20260422T123305
CREATED:20260216T110548Z
LAST-MODIFIED:20260216T110550Z
UID:1666-1771407000-1771412400@klosterzinna.com
SUMMARY:Kariedeln in Kloster Zinna
DESCRIPTION:Die Kinder der Kita Pittiplatsch kariedeln in Kloster Zinna im Bereich Mittelstr. / Jüterboger Str. / Wall und Berliner Str.
URL:https://klosterzinna.com/event/kariedeln-in-kloster-zinna/
END:VEVENT
END:VCALENDAR